BEGIN:VCALENDAR
VERSION:2.0
PRODID:-//Gunflint Trail Historical Society &amp; Chik-Wauk Museum and Nature Center - ECPv6.15.20//NONSGML v1.0//EN
CALSCALE:GREGORIAN
METHOD:PUBLISH
X-WR-CALNAME:Gunflint Trail Historical Society &amp; Chik-Wauk Museum and Nature Center
X-ORIGINAL-URL:https://gunflinthistory.org
X-WR-CALDESC:Events for Gunflint Trail Historical Society &amp; Chik-Wauk Museum and Nature Center
REFRESH-INTERVAL;VALUE=DURATION:PT1H
X-Robots-Tag:noindex
X-PUBLISHED-TTL:PT1H
BEGIN:VTIMEZONE
TZID:America/Chicago
BEGIN:DAYLIGHT
TZOFFSETFROM:-0600
TZOFFSETTO:-0500
TZNAME:CDT
DTSTART:20250309T080000
END:DAYLIGHT
BEGIN:STANDARD
TZOFFSETFROM:-0500
TZOFFSETTO:-0600
TZNAME:CST
DTSTART:20251102T070000
END:STANDARD
BEGIN:DAYLIGHT
TZOFFSETFROM:-0600
TZOFFSETTO:-0500
TZNAME:CDT
DTSTART:20260308T080000
END:DAYLIGHT
BEGIN:STANDARD
TZOFFSETFROM:-0500
TZOFFSETTO:-0600
TZNAME:CST
DTSTART:20261101T070000
END:STANDARD
BEGIN:DAYLIGHT
TZOFFSETFROM:-0600
TZOFFSETTO:-0500
TZNAME:CDT
DTSTART:20270314T080000
END:DAYLIGHT
BEGIN:STANDARD
TZOFFSETFROM:-0500
TZOFFSETTO:-0600
TZNAME:CST
DTSTART:20271107T070000
END:STANDARD
END:VTIMEZONE
BEGIN:VEVENT
DTSTART;TZID=America/Chicago:20260706T130000
DTEND;TZID=America/Chicago:20260706T140000
DTSTAMP:20260420T031556
CREATED:20210613T161752Z
LAST-MODIFIED:20260402T162916Z
UID:17396-1783342800-1783346400@gunflinthistory.org
SUMMARY:Nature Presentation Interactions at Chik-Wauk Museum & Nature Center
DESCRIPTION:Monday Porch Talks – Weekly Northwoods Presentation\nEach week\, Chik-Wauk presents a new Northwoods-themed topic— \n📍 Location: Outside on the front porch of the Chik-Wauk Museum (weather permitting). In the event of rain or poor weather\, the presentation will move indoors to the Chik-Wauk Nature Center. \n🕒 Free & Family-Friendly\nThis program is open to all ages. Donations are always appreciated to help support ongoing educational efforts. \nDiscover how ice carved the land we walk on today! \n \n 
URL:https://gunflinthistory.org/event/u-s-forest-service-nature-presentation-at-chik-wauk-museum-nature-center-7/
LOCATION:Chik-Wauk Museum & Nature Center\, 28 Moose Pond Drive\, Grand Marais\, MN\, 55604\, United States
ATTACH;FMTTYPE=image/jpeg:https://gunflinthistory.org/wp-content/uploads/2021/06/HeaderGovDocsHiRes-300x183-1.jpg
ORGANIZER;CN="Chik-Wauk Museum & Nature Center":MAILTO:info@gunflinthistory.org
END:VEVENT
BEGIN:VEVENT
DTSTART;TZID=America/Chicago:20260707T110000
DTEND;TZID=America/Chicago:20260707T160000
DTSTAMP:20260420T031556
CREATED:20230507T161349Z
LAST-MODIFIED:20251203T174840Z
UID:248661-1783422000-1783440000@gunflinthistory.org
SUMMARY:Kids' Day Every Tuesday\, from June 23 to August 18
DESCRIPTION:Don’t miss out on the fun! \nWe’re excited to announce that Kids’ Day is coming back! This is one of the most beloved events at the Chik-Wauk Museum & Nature Center\, and it’s a great opportunity for kids 18 and under to explore the Chik-Wauk Campus absolutely free! \nJoin us every Tuesday from June 23 to August 18 for a fantastic lineup of hands-on activities that celebrate the unique history and nature of the Gunflint Trail. Here’s a sneak peek at what we have planned: \n– Journal Making\n– Fun Craft Projects\n– Engaging Storytelling\n– Exciting Nature Hikes \nJust a quick reminder: a parent or guardian needs to accompany the little ones at all times while visiting the Nature Center. We truly appreciate any donations to help us cover the costs of materials and supplies. \nAnd while you’re on your way\, take your time and enjoy the stunning views along the Gunflint Trail National Scenic Byway! We can’t wait to see you here! \nChik-Wauk Museum and Nature Center is a partnership of the Gunflint Trail Historical Society and Superior National Forest\, Gunflint Ranger District. \n     
URL:https://gunflinthistory.org/event/kids-day-every-tuesday-from-june-23-to-august-18-2/
LOCATION:Chik-Wauk Museum & Nature Center\, 28 Moose Pond Drive\, Grand Marais\, MN\, 55604\, United States
ORGANIZER;CN="Chik-Wauk Museum & Nature Center":MAILTO:info@gunflinthistory.org
END:VEVENT
BEGIN:VEVENT
DTSTART;TZID=America/Chicago:20260712T140000
DTEND;TZID=America/Chicago:20260712T150000
DTSTAMP:20260420T031556
CREATED:20260402T175018Z
LAST-MODIFIED:20260402T175018Z
UID:252325-1783864800-1783868400@gunflinthistory.org
SUMMARY:Chel Anderson - Northwoods Orchids: their complex and sometimes mysterious lives
DESCRIPTION:Chel Anderson has lived\, worked\, and strenuously exercised her curiosity in Cook County since 1974. Before retiring to the rest of her life in 2019\, she spent the last 21 years of her career as a lead plant ecologist and botanist with the Minnesota Biological Survey. Chel is coauthor with Adelheid Fischer of North Shore: A Natural History of Minnesota’s Superior Coast published by the University of Minnesota Press in 2015.   \nCook County Minnesota is home to 32 species of orchids. Some are flashy\, well-known “celebrities”\, others are diminutive\, cryptic and unknown to most of us. At home in a wide variety of habitats and plant communities \, orchids live in complex and surprising relationships with other lives there. Chel’s presentation will delve into this captivating family of plants and their fascinating lives. \n  \nThis presentation will be held at the Chik-Wauk Nature Center.\nAll presentations are family-friendly and free to the public.\nDonations are always appreciated. Take your time driving up the Gunflint Trail National Scenic Byway! \nPresentations are sponsored by Visit Cook County and the GTHS Gift Club! \n    
URL:https://gunflinthistory.org/event/chel-anderson-northwoods-orchids-their-complex-and-sometimes-mysterious-lives/
LOCATION:Chik-Wauk Nature Center\, 28 Moose Pond Drive\, Grand Marais\, MN\, 55604\, United States
ATTACH;FMTTYPE=image/jpeg:https://gunflinthistory.org/wp-content/uploads/2026/04/ac19b73a-0456-44b4-b4cc-1d697aab4571.jpg
ORGANIZER;CN="Chik-Wauk Museum & Nature Center":MAILTO:info@gunflinthistory.org
END:VEVENT
BEGIN:VEVENT
DTSTART;TZID=America/Chicago:20260713T130000
DTEND;TZID=America/Chicago:20260713T140000
DTSTAMP:20260420T031556
CREATED:20210605T155237Z
LAST-MODIFIED:20260402T163120Z
UID:17309-1783947600-1783951200@gunflinthistory.org
SUMMARY:Nature Presentation Interactions at Chik-Wauk Museum & Nature Center
DESCRIPTION:Monday Porch Talks – Weekly Northwoods Presentation\nChik-Wauk presents a different Northwoods-themed topic each week— \n📍 Location: On the front porch of the Chik-Wauk Museum (weather permitting). If it rains or storms\, the presentation will move indoors to the Chik-Wauk Nature Center. \n🕒 Free & Family-Friendly\nAll are welcome! While the program is free\, donations are always appreciated to support ongoing educational opportunities. \nCome learn more about these gentle giants of the forest! \n \n 
URL:https://gunflinthistory.org/event/u-s-forest-service-nature-presentation-at-chik-wauk-museum-nature-center-5/
LOCATION:Chik-Wauk Museum & Nature Center\, 28 Moose Pond Drive\, Grand Marais\, MN\, 55604\, United States
ATTACH;FMTTYPE=image/jpeg:https://gunflinthistory.org/wp-content/uploads/2021/06/HeaderGovDocsHiRes-300x183-1.jpg
END:VEVENT
BEGIN:VEVENT
DTSTART;TZID=America/Chicago:20260713T130000
DTEND;TZID=America/Chicago:20260713T150000
DTSTAMP:20260420T031556
CREATED:20230506T134533Z
LAST-MODIFIED:20260402T163423Z
UID:248618-1783947600-1783954800@gunflinthistory.org
SUMMARY:July GTHS Membership Meeting - Gunflint Trail Remembrance Tribute
DESCRIPTION:The Gunflint Trail Historical Society takes time each July to remember those with whom we shared our passion for the Gunflint Trail. Join us at the July membership meeting\, where\, after a brief presentation\, we can share a story or two about the lives of those we lost. If you would like to share the memory of a loved one who has passed this year\, please reach out to info@gunflinthistory.org. \nPlease note the time change: Membership meetings will begin promptly at 1:00 p.m. – attend in person at the A. Paul & Carol Schaap Community Center (7401 Gunflint Trail GTVFD Hall #1) or online. A Zoom invitation will be sent out to all members by email on Sunday\, July 12. \nTreats and conversations follow (thank you to the friends who provide the home-baked goodies each month). If you would like to bring a baked treat for the monthly meetings\, please contact Bonnie Schudy at 218-388-9915. \nThe Gunflint Trail Historical Society has three membership meetings available to all GTHS members. Membership meetings are held on the second Monday of June\, July\, and August. \nLook forward to seeing you either in person or by Zoom. \nFor a complete listing of all the special presentations and events that are taking place at the Chik-Wauk Campus\, visit the calendar of events on the website. \nThank you to all GTHS members for your continued support! \nThe August GTHS Membership meeting will be held on August 10\, at the Seagull Lake Community Center. \n 
URL:https://gunflinthistory.org/event/july-gths-membership-meeting-gunflint-trail-remembrance-tribute/
LOCATION:A. Paul & Carol Schaap Community Center\, Grand Marais\, MN\, 55604\, United States
ATTACH;FMTTYPE=image/jpeg:https://gunflinthistory.org/wp-content/uploads/2021/09/Blueberry-Hill_Panorama3-1.jpg
ORGANIZER;CN="Gunflint Trail Historical Society":MAILTO:info@gunflinthistory.org
END:VEVENT
BEGIN:VEVENT
DTSTART;TZID=America/Chicago:20260714T110000
DTEND;TZID=America/Chicago:20260714T160000
DTSTAMP:20260420T031556
CREATED:20230507T162947Z
LAST-MODIFIED:20251203T174956Z
UID:248669-1784026800-1784044800@gunflinthistory.org
SUMMARY:Kids' Day Every Tuesday\, from June 23 to August 18
DESCRIPTION:Don’t miss out on the fun! \nWe’re excited to announce that Kids’ Day is coming back! This is one of the most beloved events at the Chik-Wauk Museum & Nature Center\, and it’s a great opportunity for kids 18 and under to explore the Chik-Wauk Campus absolutely free! \nJoin us every Tuesday from June 23 to August 18 for a fantastic lineup of hands-on activities that celebrate the unique history and nature of the Gunflint Trail. Here’s a sneak peek at what we have planned: \n– Journal Making\n– Fun Craft Projects\n– Engaging Storytelling\n– Exciting Nature Hikes \nJust a quick reminder: a parent or guardian needs to accompany the little ones at all times while visiting the Nature Center. We truly appreciate any donations to help us cover the costs of materials and supplies. \nAnd while you’re on your way\, take your time and enjoy the stunning views along the Gunflint Trail National Scenic Byway! We can’t wait to see you here! \nChik-Wauk Museum and Nature Center is a partnership of The Gunflint Trail Historical Society and Superior National Forest\, Gunflint Ranger District. \n      
URL:https://gunflinthistory.org/event/kids-day-every-tuesday-from-june-23-to-august-18-3/
LOCATION:Chik-Wauk Museum & Nature Center\, 28 Moose Pond Drive\, Grand Marais\, MN\, 55604\, United States
ORGANIZER;CN="Chik-Wauk Museum & Nature Center":MAILTO:info@gunflinthistory.org
END:VEVENT
BEGIN:VEVENT
DTSTART;TZID=America/Chicago:20260719T140000
DTEND;TZID=America/Chicago:20260719T150000
DTSTAMP:20260420T031556
CREATED:20260402T175746Z
LAST-MODIFIED:20260402T175910Z
UID:252331-1784469600-1784473200@gunflinthistory.org
SUMMARY:Jo Swanson - Many Hands\, One Forest: Caring for the Superior National Forest
DESCRIPTION:Jo Swanson is the Executive Director of the nonprofit Friends of the Superior National Forest (formerly known as Northwoods Volunteer Connection).  \nShe lives in Two Harbors and Askov\, Minnesota\, but has been exploring the Gunflint Trail area for 25 years. She consistently logs over 52 nights of camping per year\, many of which are in the backcountry. She has a background in environmental education and has backpacked over 20 long-distance hiking trails. The Superior National Forest is one of her favorite places.   \nThe Superior National Forest is enormous – and so is the effort to take care of it! Join Friends of the Superior National Forest Executive Director Jo Swanson to learn about the intense group effort to care for over 3 million acres of public land. Jo will give a brief overview of why this work is so critical and how the organization came to be. She’ll share some success stories with lessons learned along the way and give you inspiration for how everyone can be part of stewarding this incredible forest. \nThis presentation will be held at the Chik-Wauk Nature Center. \nAll presentations are family-friendly and free to the public.\nDonations are always appreciated. Take your time driving up the Gunflint Trail National Scenic Byway! \nPresentations are sponsored by Visit Cook County and the GTHS Gift Club! \n      \n 
URL:https://gunflinthistory.org/event/jo-swanson-many-hands-one-forest-caring-for-the-superior-national-forest/
LOCATION:Chik-Wauk Nature Center\, 28 Moose Pond Drive\, Grand Marais\, MN\, 55604\, United States
ATTACH;FMTTYPE=image/jpeg:https://gunflinthistory.org/wp-content/uploads/2026/04/Jo-planting-at-Pfeiffer-Lake.jpg
ORGANIZER;CN="Chik-Wauk Museum & Nature Center":MAILTO:info@gunflinthistory.org
END:VEVENT
BEGIN:VEVENT
DTSTART;TZID=America/Chicago:20260720T130000
DTEND;TZID=America/Chicago:20260720T140000
DTSTAMP:20260420T031556
CREATED:20210613T161538Z
LAST-MODIFIED:20260402T163613Z
UID:17394-1784552400-1784556000@gunflinthistory.org
SUMMARY:Nature Presentation Interactions at Chik-Wauk Museum & Nature Center
DESCRIPTION:Monday Porch Talks – Weekly Northwoods Presentation \nJoin us at Chik-Wauk Museum & Nature Center for our weekly Northwoods-themed presentation series. \nThis week’s topic: \n📍 Location: Outside on the front porch of Chik-Wauk Museum (weather permitting). In case of inclement weather\, the presentation will be held indoors at the Chik-Wauk Nature Center. \n🕒 Free & Family-Friendly\nEveryone is welcome! While the presentation is free\, donations are always appreciated to help support programs like these.
URL:https://gunflinthistory.org/event/u-s-forest-service-nature-presentation-at-chik-wauk-museum-nature-center-6/
LOCATION:Chik-Wauk Museum & Nature Center\, 28 Moose Pond Drive\, Grand Marais\, MN\, 55604\, United States
ATTACH;FMTTYPE=image/jpeg:https://gunflinthistory.org/wp-content/uploads/2021/06/HeaderGovDocsHiRes-300x183-1.jpg
ORGANIZER;CN="Chik-Wauk Museum & Nature Center":MAILTO:info@gunflinthistory.org
END:VEVENT
BEGIN:VEVENT
DTSTART;TZID=America/Chicago:20260721T110000
DTEND;TZID=America/Chicago:20260721T160000
DTSTAMP:20260420T031556
CREATED:20230507T163506Z
LAST-MODIFIED:20251203T175121Z
UID:248676-1784631600-1784649600@gunflinthistory.org
SUMMARY:Kids' Day Every Tuesday\, from June 23 to August 18
DESCRIPTION:Don’t miss out on the fun! \nWe’re excited to announce that Kids’ Day is coming back! This is one of the most beloved events at the Chik-Wauk Museum & Nature Center\, and it’s a great opportunity for kids 18 and under to explore the Chik-Wauk Campus absolutely free! \nJoin us every Tuesday from June 23 to August 18 for a fantastic lineup of hands-on activities that celebrate the unique history and nature of the Gunflint Trail. Here’s a sneak peek at what we have planned: \n– Journal Making\n– Fun Craft Projects\n– Engaging Storytelling\n– Exciting Nature Hikes \nJust a quick reminder: a parent or guardian needs to accompany the little ones at all times while visiting the Nature Center. We truly appreciate any donations to help us cover the costs of materials and supplies. \nAnd while you’re on your way\, take your time and enjoy the stunning views along the Gunflint Trail National Scenic Byway! We can’t wait to see you here! \nChik-Wauk Museum and Nature Center is a partnership of The Gunflint Trail Historical Society and Superior National Forest\, Gunflint Ranger District. \n        \n 
URL:https://gunflinthistory.org/event/kids-day-every-tuesday-from-june-23-to-august-18-4/
LOCATION:Chik-Wauk Museum & Nature Center\, 28 Moose Pond Drive\, Grand Marais\, MN\, 55604\, United States
ORGANIZER;CN="Chik-Wauk Museum & Nature Center":MAILTO:info@gunflinthistory.org
END:VEVENT
BEGIN:VEVENT
DTSTART;TZID=America/Chicago:20260726T110000
DTEND;TZID=America/Chicago:20260726T120000
DTSTAMP:20260420T031556
CREATED:20260402T180855Z
LAST-MODIFIED:20260402T181315Z
UID:252336-1785063600-1785067200@gunflinthistory.org
SUMMARY:Water Quality Presentation Series by the Cook County Soil & Water Conservation District
DESCRIPTION:Summer 2026 Water Quality Presentation Series\n\n\n\nCook County Soil and Water Conservation District will partner with Chik-Wauk Museum & Nature Center to present three programs exploring the connection between forests\, shorelines\, and clean water in the Rainy River Headwaters.\nThe Wonders of Watersheds – A children’s program with storytelling\, games\, and outdoor activities about protecting drinking water. A one-hour program for children of all ages\, featuring storytelling\, games\, and outdoor activities. All ages are welcome.\n\n\nMore presentations will be taking place throughout the summer\, from the Cook County Soil & Water Conservation District. \n\nSaturday\, August 15 | 11 AM–12 PM\n\n\nThe Power of Native Plants — Outdoor demonstration and shoreline tour highlighting native plants and restoration practices.\n\n\nMonday\, August 24 | 11 AM–12 PM\nWoods and Water — Guided forest walk exploring forest health\, native species\, and their connection to water quality.\n\n\nAll ages welcome. \n\n\n 
URL:https://gunflinthistory.org/event/water-quality-presentation-series-by-the-cook-county-soil-water-conservation-district/
LOCATION:Chik-Wauk Museum & Nature Center\, 28 Moose Pond Drive\, Grand Marais\, MN\, 55604\, United States
ATTACH;FMTTYPE=image/png:https://gunflinthistory.org/wp-content/uploads/2026/04/LOGOcirclePNG.png
ORGANIZER;CN="Chik-Wauk Museum & Nature Center":MAILTO:info@gunflinthistory.org
END:VEVENT
BEGIN:VEVENT
DTSTART;TZID=America/Chicago:20260727T130000
DTEND;TZID=America/Chicago:20260727T140000
DTSTAMP:20260420T031556
CREATED:20210605T155404Z
LAST-MODIFIED:20260402T163836Z
UID:17311-1785157200-1785160800@gunflinthistory.org
SUMMARY:Nature Presentation Interactions at Chik-Wauk Museum & Nature Center
DESCRIPTION:Monday Porch Talks – Weekly Northwoods Presentation\nChik-Wauk will present a different Northwoods-themed topic each week— \n📍 Location: Outside on the front porch of Chik-Wauk Museum (weather permitting). In case of inclement weather\, the presentation will move indoors to the Chik-Wauk Nature Center. \n🕒 Free & Family-Friendly\nEveryone is welcome to attend. Donations are always appreciated to help support educational programming. \nCome learn something wild about the Northwoods! \n \n  \n 
URL:https://gunflinthistory.org/event/u-s-forest-service-nature-presentation-at-chik-wauk-museum-nature-center-5-2/
LOCATION:Chik-Wauk Museum & Nature Center\, 28 Moose Pond Drive\, Grand Marais\, MN\, 55604\, United States
END:VEVENT
BEGIN:VEVENT
DTSTART;TZID=America/Chicago:20260728T110000
DTEND;TZID=America/Chicago:20260728T160000
DTSTAMP:20260420T031556
CREATED:20230507T163931Z
LAST-MODIFIED:20251203T175249Z
UID:248680-1785236400-1785254400@gunflinthistory.org
SUMMARY:Kids' Day Every Tuesday\, from June 23 to August 18
DESCRIPTION:Don’t miss out on the fun! \nWe’re excited to announce that Kids’ Day is coming back! This is one of the most beloved events at the Chik-Wauk Museum & Nature Center\, and it’s a great opportunity for kids 18 and under to explore the Chik-Wauk Campus absolutely free! \nJoin us every Tuesday from June 23 to August 18 for a fantastic lineup of hands-on activities that celebrate the unique history and nature of the Gunflint Trail. Here’s a sneak peek at what we have planned: \n– Journal Making\n– Fun Craft Projects\n– Engaging Storytelling\n– Exciting Nature Hikes \nJust a quick reminder: a parent or guardian needs to accompany the little ones at all times while visiting the Nature Center. We truly appreciate any donations to help us cover the costs of materials and supplies. \nAnd while you’re on your way\, take your time and enjoy the stunning views along the Gunflint Trail National Scenic Byway! We can’t wait to see you here! \nChik-Wauk Museum and Nature Center is a partnership of The Gunflint Trail Historical Society and Superior National Forest\, Gunflint Ranger District. \n    
URL:https://gunflinthistory.org/event/kids-day-every-tuesday-from-june-23-to-august-18-5/
LOCATION:Chik-Wauk Museum & Nature Center\, 28 Moose Pond Drive\, Grand Marais\, MN\, 55604\, United States
ORGANIZER;CN="Chik-Wauk Museum & Nature Center":MAILTO:info@gunflinthistory.org
END:VEVENT
END:VCALENDAR